BEGIN:VCALENDAR
VERSION:2.0
CALSCALE:GREGORIAN
PRODID:UnionActive
BEGIN:VEVENT
UID:5500495@ibew21.org
SUMMARY:Ballots for Local Union Officers' Election and Unit Officers' Election mailed out.
DESCRIPTION:Contact: All ballots will be mailed to the members’ last known address.  Please be sure to contact the Local Union office at 630.960.4466 if you are not sure that your correct address is on file.

The Local 21 rules of election and campaigning will be available to candidates at the May Unit meetings, or by contacting the Election Committee at 630.960.4466, ext. 388.  Only the Election Committee has access to this voicemail box. \nLink for more information: http://ibew21.org/index.cfm?zone=/unionactive/view_calendar.cfm&calendarID=5500495&thisdate=05/31/2012&useCalSection=main
LOCATION:
URL:http://ibew21.org/index.cfm?zone=/unionactive/view_calendar.cfm&calendarID=5500495&thisdate=05/31/2012&useCalSection=main
DTSTART:20120531T150000Z
DTEND:20120531T160000Z
DTSTAMP:20240229T140748
TRIGGER:-PT60M
END:VEVENT
END:VCALENDAR
