BEGIN:VCALENDAR
VERSION:2.0
CALSCALE:GREGORIAN
PRODID:UnionActive
BEGIN:VEVENT
UID:5489649@ibew21.org
SUMMARY:IBEW-AT&T Bargaining Opens! Workplace Solidarity Actions in Support of Bargaining Team!
DESCRIPTION:Contact: All questions should be directed to your work location Steward, then Area or Chief Steward, then to your Business Representative. \nLink for more information: http://ibew21.org/index.cfm?zone=/unionactive/view_calendar.cfm&calendarID=5489649&thisdate=05/15/2012&useCalSection=main
LOCATION:
URL:http://ibew21.org/index.cfm?zone=/unionactive/view_calendar.cfm&calendarID=5489649&thisdate=05/15/2012&useCalSection=main
DTSTART:20120515T170000Z
DTEND:20120515T180000Z
DTSTAMP:20240229T140734
TRIGGER:-PT60M
END:VEVENT
END:VCALENDAR
