BEGIN:VCALENDAR
VERSION:2.0
CALSCALE:GREGORIAN
PRODID:UnionActive
BEGIN:VEVENT
UID:5489648@ibew21.org
SUMMARY:AT&T - IBEW Contract Extended
DESCRIPTION:Contact: Stay Informed -- 

IBEW Local Union 21 Union will communicate news on the:

Union Hotline at 630.415.2711 or at 866.423.9582 from certain area codes. Extension #1 is for AT&T News.

IBEW Local Union 21 website is http://www.ibew21.org.
 
To make sure you get the news, sign up for IBEW 21 text and email updates on our website.

Text IBEW21 to 69866 to sign up for text messaging from from your personal cell or mobile device.
    
Follow IBEWLU21 on Twitter and Facebook with direct links here on this website.
   
 \nLink for more information: http://ibew21.org/index.cfm?zone=/unionactive/view_calendar.cfm&calendarID=5489648&thisdate=06/23/2012&useCalSection=main
LOCATION:All AT&T work locations with IBEW Local Union 21 union represented employees in Illnois and NW Indiana, plus all AT&T work locations in numerous states across the country with AT&T employees represented by IBEW System Council T-3 on behalf of Local Unions 21, 58, 134, 494, 827, 1269, 1944, 2222, 2324 and 2325. At a minimum!
URL:http://ibew21.org/index.cfm?zone=/unionactive/view_calendar.cfm&calendarID=5489648&thisdate=06/23/2012&useCalSection=main
DTSTART:20120624T065900Z
DTEND:20120623T075900Z
DTSTAMP:20240229T140737
TRIGGER:-PT60M
END:VEVENT
END:VCALENDAR
