BEGIN:VCALENDAR
VERSION:2.0
CALSCALE:GREGORIAN
PRODID:UnionActive
BEGIN:VEVENT
UID:5426954@ibew21.org
SUMMARY:May Day Events
DESCRIPTION:Contact:  \nLink for more information: http://ibew21.org/index.cfm?zone=/unionactive/view_calendar.cfm&calendarID=5426954&thisdate=05/01/2012&useCalSection=main
LOCATION:Chicago, IL USA and other all over the World!
URL:http://ibew21.org/index.cfm?zone=/unionactive/view_calendar.cfm&calendarID=5426954&thisdate=05/01/2012&useCalSection=main
DTSTART:20120501T180000Z
DTEND:20120501T233000Z
DTSTAMP:20240229T140743
TRIGGER:-PT60M
END:VEVENT
END:VCALENDAR
