BEGIN:VCALENDAR
VERSION:2.0
CALSCALE:GREGORIAN
PRODID:UnionActive
BEGIN:VEVENT
UID:5417517@ibew21.org
SUMMARY:Altura Bargaining Communications Survey – Ends May 4, 2012
DESCRIPTION:Contact:  \nLink for more information: http://ibew21.org/index.cfm?zone=/unionactive/view_calendar.cfm&calendarID=5417517&thisdate=05/04/2012&useCalSection=main
LOCATION:
URL:http://ibew21.org/index.cfm?zone=/unionactive/view_calendar.cfm&calendarID=5417517&thisdate=05/04/2012&useCalSection=main
DTSTART:20120504T150000Z
DTEND:20120504T160000Z
DTSTAMP:20240229T140736
TRIGGER:-PT60M
END:VEVENT
END:VCALENDAR
