BEGIN:VCALENDAR
VERSION:2.0
CALSCALE:GREGORIAN
PRODID:UnionActive
BEGIN:VEVENT
UID:5413050@ibew21.org
SUMMARY:Workers Memorial Day
DESCRIPTION:Contact:  \nLink for more information: http://ibew21.org/index.cfm?zone=/unionactive/view_calendar.cfm&calendarID=5413050&thisdate=04/28/2012&useCalSection=main
LOCATION:
URL:http://ibew21.org/index.cfm?zone=/unionactive/view_calendar.cfm&calendarID=5413050&thisdate=04/28/2012&useCalSection=main
DTSTART:20120428T150000Z
DTEND:20120428T160000Z
DTSTAMP:20240229T140735
TRIGGER:-PT60M
END:VEVENT
END:VCALENDAR
