BEGIN:VCALENDAR
VERSION:2.0
CALSCALE:GREGORIAN
PRODID:UnionActive
BEGIN:VEVENT
UID:5340919@ibew21.org
SUMMARY:April 9th is the last day to complete the bargaining & communications survey 
DESCRIPTION:Contact:  \nLink for more information: http://ibew21.org/index.cfm?zone=/unionactive/view_calendar.cfm&calendarID=5340919&thisdate=04/09/2012&useCalSection=main
LOCATION:
URL:http://ibew21.org/index.cfm?zone=/unionactive/view_calendar.cfm&calendarID=5340919&thisdate=04/09/2012&useCalSection=main
DTSTART:20120409T150000Z
DTEND:20120409T160000Z
DTSTAMP:20240229T140743
TRIGGER:-PT60M
END:VEVENT
END:VCALENDAR
