BEGIN:VCALENDAR
VERSION:2.0
CALSCALE:GREGORIAN
PRODID:UnionActive
BEGIN:VEVENT
UID:4997320@ibew21.org
SUMMARY:Unit 7 Union Meeting
DESCRIPTION:Contact: 618-345-5112 \nLink for more information: http://ibew21.org/index.cfm?zone=/unionactive/view_calendar.cfm&calendarID=4997320&thisdate=06/18/2012&useCalSection=main
LOCATION:IBEW Local #309

2000A Mall St. (Rt. 157)

Collinsville, IL

618-345-5112

URL:http://ibew21.org/index.cfm?zone=/unionactive/view_calendar.cfm&calendarID=4997320&thisdate=06/18/2012&useCalSection=main
DTSTART:20120619T020000Z
DTEND:20120619T030000Z
DTSTAMP:20240229T140742
TRIGGER:-PT60M
END:VEVENT
END:VCALENDAR
