BEGIN:VCALENDAR
VERSION:2.0
CALSCALE:GREGORIAN
PRODID:UnionActive
BEGIN:VEVENT
UID:4997319@ibew21.org
SUMMARY:Unit 7 Union Meeting
DESCRIPTION:Contact: 618-242-4561 \nLink for more information: http://ibew21.org/index.cfm?zone=/unionactive/view_calendar.cfm&calendarID=4997319&thisdate=05/21/2012&useCalSection=main
LOCATION:American Legion Post #141

816 Main St.

Mt. Vernon, IL

618-242-4561

URL:http://ibew21.org/index.cfm?zone=/unionactive/view_calendar.cfm&calendarID=4997319&thisdate=05/21/2012&useCalSection=main
DTSTART:20120522T020000Z
DTEND:20120522T030000Z
DTSTAMP:20240229T140733
TRIGGER:-PT60M
END:VEVENT
END:VCALENDAR
