BEGIN:VCALENDAR
VERSION:2.0
CALSCALE:GREGORIAN
PRODID:UnionActive
BEGIN:VEVENT
UID:4997318@ibew21.org
SUMMARY:Unit 7 Union Meeting
DESCRIPTION:Contact: 618-462-1627 \nLink for more information: http://ibew21.org/index.cfm?zone=/unionactive/view_calendar.cfm&calendarID=4997318&thisdate=04/16/2012&useCalSection=main
LOCATION:IBEW Local #649

4051 Humbert Rd.

Alton, IL  
 
618-462-1627
URL:http://ibew21.org/index.cfm?zone=/unionactive/view_calendar.cfm&calendarID=4997318&thisdate=04/16/2012&useCalSection=main
DTSTART:20120417T020000Z
DTEND:20120417T030000Z
DTSTAMP:20240229T140740
TRIGGER:-PT60M
END:VEVENT
END:VCALENDAR
