BEGIN:VCALENDAR
VERSION:2.0
CALSCALE:GREGORIAN
PRODID:UnionActive
BEGIN:VEVENT
UID:4996954@ibew21.org
SUMMARY:Unit 5 Meeting Urbana
DESCRIPTION:Contact: 217-367-4197 \nLink for more information: http://ibew21.org/index.cfm?zone=/unionactive/view_calendar.cfm&calendarID=4996954&thisdate=06/17/2020&useCalSection=main
LOCATION:VFW Post #630

1303 E. Main St.

Urbana, IL


URL:http://ibew21.org/index.cfm?zone=/unionactive/view_calendar.cfm&calendarID=4996954&thisdate=06/17/2020&useCalSection=main
DTSTART:20200618T003000Z
DTEND:20200618T003000Z
DTSTAMP:20240229T135909
TRIGGER:-PT60M
END:VEVENT
END:VCALENDAR
