BEGIN:VCALENDAR
VERSION:2.0
CALSCALE:GREGORIAN
PRODID:UnionActive
BEGIN:VEVENT
UID:4996953@ibew21.org
SUMMARY:Unit 5 Union Meeting
DESCRIPTION:Contact: (309)694-3151 \nLink for more information: http://ibew21.org/index.cfm?zone=/unionactive/view_calendar.cfm&calendarID=4996953&thisdate=09/18/2013&useCalSection=main
LOCATION:UAW 974

3025 Springfield Rd.

East Peoria, IL 61611

(309)694-3151


URL:http://ibew21.org/index.cfm?zone=/unionactive/view_calendar.cfm&calendarID=4996953&thisdate=09/18/2013&useCalSection=main
DTSTART:20130919T010000Z
DTEND:20130919T020000Z
DTSTAMP:20240229T140618
TRIGGER:-PT60M
END:VEVENT
END:VCALENDAR
