BEGIN:VCALENDAR
VERSION:2.0
CALSCALE:GREGORIAN
PRODID:UnionActive
BEGIN:VEVENT
UID:4996952@ibew21.org
SUMMARY:Unit 5 Union Meeting
DESCRIPTION:Contact: 217-222-0394 \nLink for more information: http://ibew21.org/index.cfm?zone=/unionactive/view_calendar.cfm&calendarID=4996952&thisdate=04/18/2012&useCalSection=main
LOCATION:Machinist Hall

2929 N. Fifth St.
 
Quincy, IL
  
217-222-0394
URL:http://ibew21.org/index.cfm?zone=/unionactive/view_calendar.cfm&calendarID=4996952&thisdate=04/18/2012&useCalSection=main
DTSTART:20120419T020000Z
DTEND:20120419T030000Z
DTSTAMP:20240229T140736
TRIGGER:-PT60M
END:VEVENT
END:VCALENDAR
