BEGIN:VCALENDAR
VERSION:2.0
CALSCALE:GREGORIAN
PRODID:UnionActive
BEGIN:VEVENT
UID:4996951@ibew21.org
SUMMARY:Unit 4 Union Meeting
DESCRIPTION:Contact: 309-736-4239 \nLink for more information: http://ibew21.org/index.cfm?zone=/unionactive/view_calendar.cfm&calendarID=4996951&thisdate=06/13/2012&useCalSection=main
LOCATION:IBEW Local #145

1700 52nd Ave., Suite A

Moline, IL

309-736-4239

URL:http://ibew21.org/index.cfm?zone=/unionactive/view_calendar.cfm&calendarID=4996951&thisdate=06/13/2012&useCalSection=main
DTSTART:20120614T020000Z
DTEND:20120614T030000Z
DTSTAMP:20240229T140740
TRIGGER:-PT60M
END:VEVENT
END:VCALENDAR
