BEGIN:VCALENDAR
VERSION:2.0
CALSCALE:GREGORIAN
PRODID:UnionActive
BEGIN:VEVENT
UID:4996949@ibew21.org
SUMMARY:Unit 4 Union Meeting
DESCRIPTION:Contact: 630-257-9859 \nLink for more information: http://ibew21.org/index.cfm?zone=/unionactive/view_calendar.cfm&calendarID=4996949&thisdate=04/11/2012&useCalSection=main
LOCATION:Lemont VFW

15780 New Ave.

Lemont, IL

630-257-9859

URL:http://ibew21.org/index.cfm?zone=/unionactive/view_calendar.cfm&calendarID=4996949&thisdate=04/11/2012&useCalSection=main
DTSTART:20120412T020000Z
DTEND:20120412T030000Z
DTSTAMP:20240229T140743
TRIGGER:-PT60M
END:VEVENT
END:VCALENDAR
