BEGIN:VCALENDAR
VERSION:2.0
CALSCALE:GREGORIAN
PRODID:UnionActive
BEGIN:VEVENT
UID:4996948@ibew21.org
SUMMARY:Unit 3 Union Meeting
DESCRIPTION:Contact: 847-854-7200 \nLink for more information: http://ibew21.org/index.cfm?zone=/unionactive/view_calendar.cfm&calendarID=4996948&thisdate=06/21/2012&useCalSection=main
LOCATION:IBEW Local #117

765 Munshaw Lane

Crystal Lake, IL
  
847-854-7200
URL:http://ibew21.org/index.cfm?zone=/unionactive/view_calendar.cfm&calendarID=4996948&thisdate=06/21/2012&useCalSection=main
DTSTART:20120622T020000Z
DTEND:20120622T030000Z
DTSTAMP:20240229T140737
TRIGGER:-PT60M
END:VEVENT
END:VCALENDAR
