BEGIN:VCALENDAR
VERSION:2.0
CALSCALE:GREGORIAN
PRODID:UnionActive
BEGIN:VEVENT
UID:4996947@ibew21.org
SUMMARY:Unit 3 Union Meeting
DESCRIPTION:Contact: 847-244-9282 \nLink for more information: http://ibew21.org/index.cfm?zone=/unionactive/view_calendar.cfm&calendarID=4996947&thisdate=05/17/2012&useCalSection=main
LOCATION:Gurnee American Legion

749 Milwaukee

Gurnee, IL

847-244-9282
URL:http://ibew21.org/index.cfm?zone=/unionactive/view_calendar.cfm&calendarID=4996947&thisdate=05/17/2012&useCalSection=main
DTSTART:20120518T020000Z
DTEND:20120518T030000Z
DTSTAMP:20240229T140736
TRIGGER:-PT60M
END:VEVENT
END:VCALENDAR
