BEGIN:VCALENDAR
VERSION:2.0
CALSCALE:GREGORIAN
PRODID:UnionActive
BEGIN:VEVENT
UID:4996946@ibew21.org
SUMMARY:Unit 3 Union Meeting
DESCRIPTION:Contact: 815-398-6282 \nLink for more information: http://ibew21.org/index.cfm?zone=/unionactive/view_calendar.cfm&calendarID=4996946&thisdate=04/19/2012&useCalSection=main
LOCATION:IBEW Local #364

6820 Mill Rd.

Rockford, IL

815-398-6282

URL:http://ibew21.org/index.cfm?zone=/unionactive/view_calendar.cfm&calendarID=4996946&thisdate=04/19/2012&useCalSection=main
DTSTART:20120420T020000Z
DTEND:20120420T030000Z
DTSTAMP:20240229T140738
TRIGGER:-PT60M
END:VEVENT
END:VCALENDAR
