BEGIN:VCALENDAR
VERSION:2.0
CALSCALE:GREGORIAN
PRODID:UnionActive
BEGIN:VEVENT
UID:4996945@ibew21.org
SUMMARY:Unit 2 Union Meeting
DESCRIPTION:Contact: 708-687-9323 \nLink for more information: http://ibew21.org/index.cfm?zone=/unionactive/view_calendar.cfm&calendarID=4996945&thisdate=10/08/2013&useCalSection=main
LOCATION:Gaelic Park Banquet Hall

6119 W. 147th

Oak Forest, IL

708-687-9323
URL:http://ibew21.org/index.cfm?zone=/unionactive/view_calendar.cfm&calendarID=4996945&thisdate=10/08/2013&useCalSection=main
DTSTART:20131009T020000Z
DTEND:20131009T030000Z
DTSTAMP:20240229T140620
TRIGGER:-PT60M
END:VEVENT
END:VCALENDAR
