BEGIN:VCALENDAR
VERSION:2.0
CALSCALE:GREGORIAN
PRODID:UnionActive
BEGIN:VEVENT
UID:4996944@ibew21.org
SUMMARY:Unit 2 Union Meeting
DESCRIPTION:Contact: 219-756-5101 \nLink for more information: http://ibew21.org/index.cfm?zone=/unionactive/view_calendar.cfm&calendarID=4996944&thisdate=05/08/2012&useCalSection=main
LOCATION:Slovak Club

6920 Broadway

Merrillville, IN

219-756-5101	

URL:http://ibew21.org/index.cfm?zone=/unionactive/view_calendar.cfm&calendarID=4996944&thisdate=05/08/2012&useCalSection=main
DTSTART:20120509T020000Z
DTEND:20120509T030000Z
DTSTAMP:20240229T140741
TRIGGER:-PT60M
END:VEVENT
END:VCALENDAR
