BEGIN:VCALENDAR
VERSION:2.0
CALSCALE:GREGORIAN
PRODID:UnionActive
BEGIN:VEVENT
UID:4996943@ibew21.org
SUMMARY:Unit 2 Union Meeting
DESCRIPTION:Contact: 708-474-5906 \nLink for more information: http://ibew21.org/index.cfm?zone=/unionactive/view_calendar.cfm&calendarID=4996943&thisdate=04/10/2012&useCalSection=main
LOCATION:Lansing American Legion Post #697

18255 Grant St.

Lansing, IL
   
708-474-5906
URL:http://ibew21.org/index.cfm?zone=/unionactive/view_calendar.cfm&calendarID=4996943&thisdate=04/10/2012&useCalSection=main
DTSTART:20120411T020000Z
DTEND:20120411T030000Z
DTSTAMP:20240229T140737
TRIGGER:-PT60M
END:VEVENT
END:VCALENDAR
