BEGIN:VCALENDAR
VERSION:2.0
CALSCALE:GREGORIAN
PRODID:UnionActive
BEGIN:VEVENT
UID:4996942@ibew21.org
SUMMARY:Unit 1 Union Meeting
DESCRIPTION:Contact: 773-282-7035 \nLink for more information: http://ibew21.org/index.cfm?zone=/unionactive/view_calendar.cfm&calendarID=4996942&thisdate=06/14/2012&useCalSection=main
LOCATION:Irish-American Heritage Center

4626 N. Knox Ave. 

Chicago, IL  

773-282-7035

URL:http://ibew21.org/index.cfm?zone=/unionactive/view_calendar.cfm&calendarID=4996942&thisdate=06/14/2012&useCalSection=main
DTSTART:20120615T020000Z
DTEND:20120615T030000Z
DTSTAMP:20240229T140742
TRIGGER:-PT60M
END:VEVENT
END:VCALENDAR
