BEGIN:VCALENDAR
VERSION:2.0
CALSCALE:GREGORIAN
PRODID:UnionActive
BEGIN:VEVENT
UID:4996941@ibew21.org
SUMMARY:Unit 1 Union Meeting
DESCRIPTION:Contact: 312-474-4186 \nLink for more information: http://ibew21.org/index.cfm?zone=/unionactive/view_calendar.cfm&calendarID=4996941&thisdate=05/10/2012&useCalSection=main
LOCATION:IBEW Local #134

600 W. Washington Blvd.

Chicago, IL

312-474-4186
URL:http://ibew21.org/index.cfm?zone=/unionactive/view_calendar.cfm&calendarID=4996941&thisdate=05/10/2012&useCalSection=main
DTSTART:20120511T010000Z
DTEND:20120511T020000Z
DTSTAMP:20240229T140735
TRIGGER:-PT60M
END:VEVENT
END:VCALENDAR
