BEGIN:VCALENDAR
VERSION:2.0
CALSCALE:GREGORIAN
PRODID:UnionActive
BEGIN:VEVENT
UID:4996940@ibew21.org
SUMMARY:Unit 1 Union Meeting
DESCRIPTION:Contact: 630-960-4466 \nLink for more information: http://ibew21.org/index.cfm?zone=/unionactive/view_calendar.cfm&calendarID=4996940&thisdate=04/12/2012&useCalSection=main
LOCATION:IBEW Local 21 Conference Center

1307 West Butterfield Road

Suite 424

Downers Grove, IL

630-960-4466
URL:http://ibew21.org/index.cfm?zone=/unionactive/view_calendar.cfm&calendarID=4996940&thisdate=04/12/2012&useCalSection=main
DTSTART:20120413T020000Z
DTEND:20120413T030000Z
DTSTAMP:20240229T140734
TRIGGER:-PT60M
END:VEVENT
END:VCALENDAR
