BEGIN:VCALENDAR
VERSION:2.0
CALSCALE:GREGORIAN
PRODID:UnionActive
BEGIN:VEVENT
UID:4993609@ibew21.org
SUMMARY:Unit 2 Union Meeting
DESCRIPTION:Contact: 708-474-5906 \nLink for more information: http://ibew21.org/index.cfm?zone=/unionactive/view_calendar.cfm&calendarID=4993609&thisdate=01/10/2012&useCalSection=main
LOCATION:Lansing American Legion Post #697

18255 Grant St.

Lansing, IL 

708-474-5906
URL:http://ibew21.org/index.cfm?zone=/unionactive/view_calendar.cfm&calendarID=4993609&thisdate=01/10/2012&useCalSection=main
DTSTART:20120111T030000Z
DTEND:20120111T040000Z
DTSTAMP:20240229T140749
TRIGGER:-PT60M
END:VEVENT
END:VCALENDAR
