BEGIN:VCALENDAR
VERSION:2.0
CALSCALE:GREGORIAN
PRODID:UnionActive
BEGIN:VEVENT
UID:4993607@ibew21.org
SUMMARY:Unit 7 Union Meeting
DESCRIPTION:Contact: 618-345-5112 \nLink for more information: http://ibew21.org/index.cfm?zone=/unionactive/view_calendar.cfm&calendarID=4993607&thisdate=03/19/2012&useCalSection=main
LOCATION:IBEW Local #309

2000A Mall St. (Rt. 157)

Collinsville, IL

618-345-5112
URL:http://ibew21.org/index.cfm?zone=/unionactive/view_calendar.cfm&calendarID=4993607&thisdate=03/19/2012&useCalSection=main
DTSTART:20120320T020000Z
DTEND:20120320T030000Z
DTSTAMP:20240229T140735
TRIGGER:-PT60M
END:VEVENT
END:VCALENDAR
