BEGIN:VCALENDAR
VERSION:2.0
CALSCALE:GREGORIAN
PRODID:UnionActive
BEGIN:VEVENT
UID:4993603@ibew21.org
SUMMARY:Unit 7 Union Meeting
DESCRIPTION:Contact: 618-462-1627 \nLink for more information: http://ibew21.org/index.cfm?zone=/unionactive/view_calendar.cfm&calendarID=4993603&thisdate=01/16/2012&useCalSection=main
LOCATION:IBEW Local #649

4051 Humbert Rd.

Alton, IL   

618-462-1627
URL:http://ibew21.org/index.cfm?zone=/unionactive/view_calendar.cfm&calendarID=4993603&thisdate=01/16/2012&useCalSection=main
DTSTART:20120117T030000Z
DTEND:20120117T040000Z
DTSTAMP:20240229T140744
TRIGGER:-PT60M
END:VEVENT
END:VCALENDAR
