BEGIN:VCALENDAR
VERSION:2.0
CALSCALE:GREGORIAN
PRODID:UnionActive
BEGIN:VEVENT
UID:4993600@ibew21.org
SUMMARY:Unit 6 Union Meeting
DESCRIPTION:Contact: 217-544-3479 \nLink for more information: http://ibew21.org/index.cfm?zone=/unionactive/view_calendar.cfm&calendarID=4993600&thisdate=01/17/2012&useCalSection=main
LOCATION:IBEW Local #193

3150 Wide Track Dr.

Springfield, IL

217-544-3479




URL:http://ibew21.org/index.cfm?zone=/unionactive/view_calendar.cfm&calendarID=4993600&thisdate=01/17/2012&useCalSection=main
DTSTART:20120118T013000Z
DTEND:20120118T023000Z
DTSTAMP:20240229T140738
TRIGGER:-PT60M
END:VEVENT
END:VCALENDAR
