BEGIN:VCALENDAR
VERSION:2.0
CALSCALE:GREGORIAN
PRODID:UnionActive
BEGIN:VEVENT
UID:4993596@ibew21.org
SUMMARY:Unit 5 Union Meeting
DESCRIPTION:Contact: 217-442-0996 \nLink for more information: http://ibew21.org/index.cfm?zone=/unionactive/view_calendar.cfm&calendarID=4993596&thisdate=03/21/2012&useCalSection=main
LOCATION:IBEW Local #538

1290 N. Michigan Ave.

Danville, IL

217-442-0996
URL:http://ibew21.org/index.cfm?zone=/unionactive/view_calendar.cfm&calendarID=4993596&thisdate=03/21/2012&useCalSection=main
DTSTART:20120322T020000Z
DTEND:20120322T030000Z
DTSTAMP:20240229T140741
TRIGGER:-PT60M
END:VEVENT
END:VCALENDAR
