BEGIN:VCALENDAR
VERSION:2.0
CALSCALE:GREGORIAN
PRODID:UnionActive
BEGIN:VEVENT
UID:4993595@ibew21.org
SUMMARY:Unit 5 Union Meeting
DESCRIPTION:Contact: 217-877-4604 \nLink for more information: http://ibew21.org/index.cfm?zone=/unionactive/view_calendar.cfm&calendarID=4993595&thisdate=02/15/2012&useCalSection=main
LOCATION:IBEW Local #146

3390 N. Woodford St.

Decatur, IL.

217-877-4604

URL:http://ibew21.org/index.cfm?zone=/unionactive/view_calendar.cfm&calendarID=4993595&thisdate=02/15/2012&useCalSection=main
DTSTART:20120216T030000Z
DTEND:20120216T040000Z
DTSTAMP:20240229T140750
TRIGGER:-PT60M
END:VEVENT
END:VCALENDAR
