BEGIN:VCALENDAR
VERSION:2.0
CALSCALE:GREGORIAN
PRODID:UnionActive
BEGIN:VEVENT
UID:4993594@ibew21.org
SUMMARY:Unit 5 Union Meeting
DESCRIPTION:Contact: 309-676-7635 \nLink for more information: http://ibew21.org/index.cfm?zone=/unionactive/view_calendar.cfm&calendarID=4993594&thisdate=01/18/2012&useCalSection=main
LOCATION:Peoria Labor Temple

Worker’s United Local #16

400 NE Jefferson

Peoria, IL  

309-676-7635

URL:http://ibew21.org/index.cfm?zone=/unionactive/view_calendar.cfm&calendarID=4993594&thisdate=01/18/2012&useCalSection=main
DTSTART:20120119T030000Z
DTEND:20120119T040000Z
DTSTAMP:20240229T140736
TRIGGER:-PT60M
END:VEVENT
END:VCALENDAR
