BEGIN:VCALENDAR
VERSION:2.0
CALSCALE:GREGORIAN
PRODID:UnionActive
BEGIN:VEVENT
UID:4991025@ibew21.org
SUMMARY:Unit 4 Union Meeting
DESCRIPTION:Contact: 309-736-4239 \nLink for more information: http://ibew21.org/index.cfm?zone=/unionactive/view_calendar.cfm&calendarID=4991025&thisdate=03/14/2012&useCalSection=main
LOCATION:IBEW Local #145

1700 52nd Ave. 

Suite A

Moline, IL

309-736-4239
URL:http://ibew21.org/index.cfm?zone=/unionactive/view_calendar.cfm&calendarID=4991025&thisdate=03/14/2012&useCalSection=main
DTSTART:20120315T020000Z
DTEND:20120315T030000Z
DTSTAMP:20240229T140739
TRIGGER:-PT60M
END:VEVENT
END:VCALENDAR
