BEGIN:VCALENDAR
VERSION:2.0
CALSCALE:GREGORIAN
PRODID:UnionActive
BEGIN:VEVENT
UID:4991021@ibew21.org
SUMMARY:Unit 3 Union Meeting
DESCRIPTION:Contact: 847-854-7200 \nLink for more information: http://ibew21.org/index.cfm?zone=/unionactive/view_calendar.cfm&calendarID=4991021&thisdate=03/15/2012&useCalSection=main
LOCATION:IBEW Local #117

765 Munshaw Lane

Crystal Lake, IL 
  
847-854-7200
URL:http://ibew21.org/index.cfm?zone=/unionactive/view_calendar.cfm&calendarID=4991021&thisdate=03/15/2012&useCalSection=main
DTSTART:20120316T020000Z
DTEND:20120316T030000Z
DTSTAMP:20240229T140749
TRIGGER:-PT60M
END:VEVENT
END:VCALENDAR
