BEGIN:VCALENDAR
VERSION:2.0
CALSCALE:GREGORIAN
PRODID:UnionActive
BEGIN:VEVENT
UID:4991018@ibew21.org
SUMMARY:*Unit 2 Union Meeting*
DESCRIPTION:Contact:  \nLink for more information: http://ibew21.org/index.cfm?zone=/unionactive/view_calendar.cfm&calendarID=4991018&thisdate=03/12/2012&useCalSection=main
LOCATION:Gaelic Park Banquet Hall

6119 W. 147th

Oak Forest, IL

708-687-9323

*note day change for this month 

URL:http://ibew21.org/index.cfm?zone=/unionactive/view_calendar.cfm&calendarID=4991018&thisdate=03/12/2012&useCalSection=main
DTSTART:20120313T020000Z
DTEND:20120313T030000Z
DTSTAMP:20240229T140737
TRIGGER:-PT60M
END:VEVENT
END:VCALENDAR
