BEGIN:VCALENDAR
VERSION:2.0
CALSCALE:GREGORIAN
PRODID:UnionActive
BEGIN:VEVENT
UID:4970604@ibew21.org
SUMMARY:Unit 1 Union Meeting
DESCRIPTION:Contact: 630-960-4466 \nLink for more information: http://ibew21.org/index.cfm?zone=/unionactive/view_calendar.cfm&calendarID=4970604&thisdate=01/12/2012&useCalSection=main
LOCATION:IBEW Local Union 21 Conference Center

1307 West Butterfield Road 
Suite 424

Downers Grove, IL

630-960-4466
URL:http://ibew21.org/index.cfm?zone=/unionactive/view_calendar.cfm&calendarID=4970604&thisdate=01/12/2012&useCalSection=main
DTSTART:20120113T030000Z
DTEND:20120113T040000Z
DTSTAMP:20240229T140749
TRIGGER:-PT60M
END:VEVENT
END:VCALENDAR
