BEGIN:VCALENDAR
VERSION:2.0
CALSCALE:GREGORIAN
PRODID:UnionActive
BEGIN:VEVENT
UID:12350514@ibew21.org
SUMMARY:Unit 6 Meeting Springfield
DESCRIPTION:Contact: 217-544-3479 \nLink for more information: http://ibew21.org/index.cfm?zone=/unionactive/view_calendar.cfm&calendarID=12350514&thisdate=11/21/2023&useCalSection=main
LOCATION:IBEW Local #193

3150 Wide Track Dr.

Springfield, IL 
URL:http://ibew21.org/index.cfm?zone=/unionactive/view_calendar.cfm&calendarID=12350514&thisdate=11/21/2023&useCalSection=main
DTSTART:20231122T013000Z
DTEND:20231122T023000Z
DTSTAMP:20240229T135256
TRIGGER:-PT60M
END:VEVENT
END:VCALENDAR
