BEGIN:VCALENDAR
VERSION:2.0
CALSCALE:GREGORIAN
PRODID:UnionActive
BEGIN:VEVENT
UID:12350507@ibew21.org
SUMMARY:Unit 6 Meeting Springfield
DESCRIPTION:Contact: 217-544-3479 \nLink for more information: http://ibew21.org/index.cfm?zone=/unionactive/view_calendar.cfm&calendarID=12350507&thisdate=04/18/2023&useCalSection=main
LOCATION:IBEW Local #193

3150 Wide Track Dr.

Springfield, IL 
URL:http://ibew21.org/index.cfm?zone=/unionactive/view_calendar.cfm&calendarID=12350507&thisdate=04/18/2023&useCalSection=main
DTSTART:20230419T003000Z
DTEND:20230419T013000Z
DTSTAMP:20240229T135314
TRIGGER:-PT60M
END:VEVENT
END:VCALENDAR
