BEGIN:VCALENDAR
VERSION:2.0
CALSCALE:GREGORIAN
PRODID:UnionActive
BEGIN:VEVENT
UID:12142557@ibew21.org
SUMMARY:Unit 4 Meeting Moline
DESCRIPTION:Contact: 309-736-4239 \nLink for more information: http://ibew21.org/index.cfm?zone=/unionactive/view_calendar.cfm&calendarID=12142557&thisdate=10/12/2022&useCalSection=main
LOCATION:IBEW Local #145

1700 52nd Ave.Suite A

Moline, IL 
URL:http://ibew21.org/index.cfm?zone=/unionactive/view_calendar.cfm&calendarID=12142557&thisdate=10/12/2022&useCalSection=main
DTSTART:20221013T020000Z
DTEND:20221013T030000Z
DTSTAMP:20240229T135623
TRIGGER:-PT60M
END:VEVENT
END:VCALENDAR
