BEGIN:VCALENDAR
VERSION:2.0
CALSCALE:GREGORIAN
PRODID:UnionActive
BEGIN:VEVENT
UID:12142554@ibew21.org
SUMMARY:Unit 4 Meeting Moline
DESCRIPTION:Contact: 309-736-4239 \nLink for more information: http://ibew21.org/index.cfm?zone=/unionactive/view_calendar.cfm&calendarID=12142554&thisdate=01/11/2023&useCalSection=main
LOCATION:IBEW Local #145

1700 52nd Ave.Suite A

Moline, IL 
URL:http://ibew21.org/index.cfm?zone=/unionactive/view_calendar.cfm&calendarID=12142554&thisdate=01/11/2023&useCalSection=main
DTSTART:20230112T030000Z
DTEND:20230112T040000Z
DTSTAMP:20240229T135312
TRIGGER:-PT60M
END:VEVENT
END:VCALENDAR
