BEGIN:VCALENDAR
VERSION:2.0
CALSCALE:GREGORIAN
PRODID:UnionActive
BEGIN:VEVENT
UID:12068410@ibew21.org
SUMMARY:Unit 3 Meeting Gurnee 
DESCRIPTION:Contact: 847-244-9282 \nLink for more information: http://ibew21.org/index.cfm?zone=/unionactive/view_calendar.cfm&calendarID=12068410&thisdate=09/15/2022&useCalSection=main
LOCATION:American Legion

749 Milwaukee

Gurnee, IL 
URL:http://ibew21.org/index.cfm?zone=/unionactive/view_calendar.cfm&calendarID=12068410&thisdate=09/15/2022&useCalSection=main
DTSTART:20220916T020000Z
DTEND:20220916T030000Z
DTSTAMP:20240229T135617
TRIGGER:-PT60M
END:VEVENT
END:VCALENDAR
