BEGIN:VCALENDAR
VERSION:2.0
CALSCALE:GREGORIAN
PRODID:UnionActive
BEGIN:VEVENT
UID:12068409@ibew21.org
SUMMARY:Unit 3 Meeting Gurnee 
DESCRIPTION:Contact: 847-244-9282 \nLink for more information: http://ibew21.org/index.cfm?zone=/unionactive/view_calendar.cfm&calendarID=12068409&thisdate=06/16/2022&useCalSection=main
LOCATION:American Legion

749 Milwaukee

Gurnee, IL 
URL:http://ibew21.org/index.cfm?zone=/unionactive/view_calendar.cfm&calendarID=12068409&thisdate=06/16/2022&useCalSection=main
DTSTART:20220617T020000Z
DTEND:20220617T030000Z
DTSTAMP:20240229T135614
TRIGGER:-PT60M
END:VEVENT
END:VCALENDAR
