BEGIN:VCALENDAR
VERSION:2.0
CALSCALE:GREGORIAN
PRODID:UnionActive
BEGIN:VEVENT
UID:12068395@ibew21.org
SUMMARY:Unit 5 Meeting Quincy
DESCRIPTION:Contact:  \nLink for more information: http://ibew21.org/index.cfm?zone=/unionactive/view_calendar.cfm&calendarID=12068395&thisdate=11/16/2022&useCalSection=main
LOCATION:Machinist Hall
2929 N. Fifth St. 
Quincy, IL 217-222-0394
URL:http://ibew21.org/index.cfm?zone=/unionactive/view_calendar.cfm&calendarID=12068395&thisdate=11/16/2022&useCalSection=main
DTSTART:20221117T013000Z
DTEND:20221117T013000Z
DTSTAMP:20240229T135619
TRIGGER:-PT60M
END:VEVENT
END:VCALENDAR
