BEGIN:VCALENDAR
VERSION:2.0
CALSCALE:GREGORIAN
PRODID:UnionActive
BEGIN:VEVENT
UID:12068394@ibew21.org
SUMMARY:Unit 5 Meeting-Decatur
DESCRIPTION:Contact: 217-877-4604 \nLink for more information: http://ibew21.org/index.cfm?zone=/unionactive/view_calendar.cfm&calendarID=12068394&thisdate=10/19/2022&useCalSection=main
LOCATION:IBEW Local #146

3390 N. Woodford St.

Decatur, IL 
URL:http://ibew21.org/index.cfm?zone=/unionactive/view_calendar.cfm&calendarID=12068394&thisdate=10/19/2022&useCalSection=main
DTSTART:20221020T020000Z
DTEND:20221020T030000Z
DTSTAMP:20240229T135620
TRIGGER:-PT60M
END:VEVENT
END:VCALENDAR
