BEGIN:VCALENDAR
VERSION:2.0
CALSCALE:GREGORIAN
PRODID:UnionActive
BEGIN:VEVENT
UID:12068393@ibew21.org
SUMMARY:Unit 5 Meeting-Decatur
DESCRIPTION:Contact: 217-877-4604 \nLink for more information: http://ibew21.org/index.cfm?zone=/unionactive/view_calendar.cfm&calendarID=12068393&thisdate=07/20/2022&useCalSection=main
LOCATION:IBEW Local #146

3390 N. Woodford St.

Decatur, IL 
URL:http://ibew21.org/index.cfm?zone=/unionactive/view_calendar.cfm&calendarID=12068393&thisdate=07/20/2022&useCalSection=main
DTSTART:20220721T020000Z
DTEND:20220721T030000Z
DTSTAMP:20240229T135607
TRIGGER:-PT60M
END:VEVENT
END:VCALENDAR
