BEGIN:VCALENDAR
VERSION:2.0
CALSCALE:GREGORIAN
PRODID:UnionActive
BEGIN:VEVENT
UID:12068392@ibew21.org
SUMMARY:Unit 3 Meeting - Hoffman Estates
DESCRIPTION:Contact: 847-645-9500 \nLink for more information: http://ibew21.org/index.cfm?zone=/unionactive/view_calendar.cfm&calendarID=12068392&thisdate=08/18/2022&useCalSection=main
LOCATION:Marriott Chicago Northwest

4800 Hoffman Blvd.

Hoffman Estates, IL
URL:http://ibew21.org/index.cfm?zone=/unionactive/view_calendar.cfm&calendarID=12068392&thisdate=08/18/2022&useCalSection=main
DTSTART:20220819T020000Z
DTEND:20220819T030000Z
DTSTAMP:20240229T135623
TRIGGER:-PT60M
END:VEVENT
END:VCALENDAR
