BEGIN:VCALENDAR
VERSION:2.0
CALSCALE:GREGORIAN
PRODID:UnionActive
BEGIN:VEVENT
UID:12068391@ibew21.org
SUMMARY:Unit 3 Meeting - Hoffman Estates
DESCRIPTION:Contact: 847-645-9500 \nLink for more information: http://ibew21.org/index.cfm?zone=/unionactive/view_calendar.cfm&calendarID=12068391&thisdate=05/19/2022&useCalSection=main
LOCATION:Marriott Chicago Northwest

4800 Hoffman Blvd.

Hoffman Estates, IL
URL:http://ibew21.org/index.cfm?zone=/unionactive/view_calendar.cfm&calendarID=12068391&thisdate=05/19/2022&useCalSection=main
DTSTART:20220520T020000Z
DTEND:20220520T030000Z
DTSTAMP:20240229T135616
TRIGGER:-PT60M
END:VEVENT
END:VCALENDAR
