BEGIN:VCALENDAR
VERSION:2.0
CALSCALE:GREGORIAN
PRODID:UnionActive
BEGIN:VEVENT
UID:12068390@ibew21.org
SUMMARY:Unit 3 Meeting - Rockford
DESCRIPTION:Contact: 815-398-6282 \nLink for more information: http://ibew21.org/index.cfm?zone=/unionactive/view_calendar.cfm&calendarID=12068390&thisdate=07/21/2022&useCalSection=main
LOCATION:IBEW Local #364

6820 Mill Rd.

Rockford, IL 
URL:http://ibew21.org/index.cfm?zone=/unionactive/view_calendar.cfm&calendarID=12068390&thisdate=07/21/2022&useCalSection=main
DTSTART:20220722T020000Z
DTEND:20220722T030000Z
DTSTAMP:20240229T135615
TRIGGER:-PT60M
END:VEVENT
END:VCALENDAR
