BEGIN:VCALENDAR
VERSION:2.0
CALSCALE:GREGORIAN
PRODID:UnionActive
BEGIN:VEVENT
UID:12068389@ibew21.org
SUMMARY:Unit 3 Meeting - Rockford
DESCRIPTION:Contact: 815-398-6282 \nLink for more information: http://ibew21.org/index.cfm?zone=/unionactive/view_calendar.cfm&calendarID=12068389&thisdate=01/19/2023&useCalSection=main
LOCATION:IBEW Local #364

6820 Mill Rd.

Rockford, IL 
URL:http://ibew21.org/index.cfm?zone=/unionactive/view_calendar.cfm&calendarID=12068389&thisdate=01/19/2023&useCalSection=main
DTSTART:20230120T030000Z
DTEND:20230120T040000Z
DTSTAMP:20240229T135313
TRIGGER:-PT60M
END:VEVENT
END:VCALENDAR
