BEGIN:VCALENDAR
VERSION:2.0
CALSCALE:GREGORIAN
PRODID:UnionActive
BEGIN:VEVENT
UID:12068385@ibew21.org
SUMMARY:Unit 7 Meeting Alton
DESCRIPTION:Contact: 618-462-1627 \nLink for more information: http://ibew21.org/index.cfm?zone=/unionactive/view_calendar.cfm&calendarID=12068385&thisdate=05/16/2022&useCalSection=main
LOCATION:IBEW Local #649

3945 Humbert Rd.

Alton, IL 
URL:http://ibew21.org/index.cfm?zone=/unionactive/view_calendar.cfm&calendarID=12068385&thisdate=05/16/2022&useCalSection=main
DTSTART:20220517T020000Z
DTEND:20220517T030000Z
DTSTAMP:20240229T135621
TRIGGER:-PT60M
END:VEVENT
END:VCALENDAR
