BEGIN:VCALENDAR
VERSION:2.0
CALSCALE:GREGORIAN
PRODID:UnionActive
BEGIN:VEVENT
UID:12068381@ibew21.org
SUMMARY:Unit 7 Meeting Collinsville
DESCRIPTION:Contact: 618-345-2508 \nLink for more information: http://ibew21.org/index.cfm?zone=/unionactive/view_calendar.cfm&calendarID=12068381&thisdate=04/18/2022&useCalSection=main
LOCATION:American Legion Post 365

1022 Vandalia Street 

Collinsville, IL 
URL:http://ibew21.org/index.cfm?zone=/unionactive/view_calendar.cfm&calendarID=12068381&thisdate=04/18/2022&useCalSection=main
DTSTART:20220419T020000Z
DTEND:20220419T030000Z
DTSTAMP:20240229T135620
TRIGGER:-PT60M
END:VEVENT
END:VCALENDAR
